BEGIN:VCALENDAR
VERSION:2.0
PRODID:-//Tuba Bach - ECPv6.15.13//NONSGML v1.0//EN
CALSCALE:GREGORIAN
METHOD:PUBLISH
X-ORIGINAL-URL:https://tubabach.org
X-WR-CALDESC:Events for Tuba Bach
REFRESH-INTERVAL;VALUE=DURATION:PT1H
X-Robots-Tag:noindex
X-PUBLISHED-TTL:PT1H
BEGIN:VTIMEZONE
TZID:UTC
BEGIN:STANDARD
TZOFFSETFROM:+0000
TZOFFSETTO:+0000
TZNAME:UTC
DTSTART:20230101T000000
END:STANDARD
END:VTIMEZONE
BEGIN:VEVENT
DTSTART;TZID=UTC:20240223T190000
DTEND;TZID=UTC:20240223T210000
DTSTAMP:20260425T011953
CREATED:20240104T195303Z
LAST-MODIFIED:20240207T195044Z
UID:2169-1708714800-1708722000@tubabach.org
SUMMARY:Tuba Bach presents . . . MSU's Salsa Verde
DESCRIPTION:Spicy Latin Jazz from East Lansing!
URL:https://tubabach.org/event/tuba-bach-presents-msus-salsa-verde/
LOCATION:Immanuel Lutheran Church\, 726 Fuller Avenue\, Big Rapids\, MI\, 49307\, United States
ATTACH;FMTTYPE=image/png:https://tubabach.org/wp-content/uploads/2024/01/Salsa-Verde.png
ORGANIZER;CN="Tuba Bach":MAILTO:mallett@tubabach.org
END:VEVENT
END:VCALENDAR