BEGIN:VCALENDAR
VERSION:2.0
PRODID:-//Tuba Bach - ECPv6.15.13//NONSGML v1.0//EN
CALSCALE:GREGORIAN
METHOD:PUBLISH
X-ORIGINAL-URL:https://tubabach.org
X-WR-CALDESC:Events for Tuba Bach
REFRESH-INTERVAL;VALUE=DURATION:PT1H
X-Robots-Tag:noindex
X-PUBLISHED-TTL:PT1H
BEGIN:VTIMEZONE
TZID:UTC
BEGIN:STANDARD
TZOFFSETFROM:+0000
TZOFFSETTO:+0000
TZNAME:UTC
DTSTART:20230101T000000
END:STANDARD
END:VTIMEZONE
BEGIN:VEVENT
DTSTART;TZID=UTC:20240310T160000
DTEND;TZID=UTC:20240310T173000
DTSTAMP:20260425T000529
CREATED:20240104T195449Z
LAST-MODIFIED:20240310T002658Z
UID:2171-1710086400-1710091800@tubabach.org
SUMMARY:*CANCELLED* Tuba Bach presents . . . MSU "Fusion" woodwind quintet
DESCRIPTION:*This event has been cancelled due to a medical emergency* \nFive outstanding musicians from MSU’s College of Music.
URL:https://tubabach.org/event/tuba-bach-presents-msu-fusion-woodwind-quintet/
LOCATION:Immanuel Lutheran Church\, 726 Fuller Avenue\, Big Rapids\, MI\, 49307\, United States
ATTACH;FMTTYPE=image/png:https://tubabach.org/wp-content/uploads/2024/01/sparty-tuba-bach.png
ORGANIZER;CN="Tuba Bach":MAILTO:mallett@tubabach.org
END:VEVENT
END:VCALENDAR