BEGIN:VCALENDAR
VERSION:2.0
PRODID:-//Tuba Bach - ECPv6.15.13//NONSGML v1.0//EN
CALSCALE:GREGORIAN
METHOD:PUBLISH
X-WR-CALNAME:Tuba Bach
X-ORIGINAL-URL:https://tubabach.org
X-WR-CALDESC:Events for Tuba Bach
REFRESH-INTERVAL;VALUE=DURATION:PT1H
X-Robots-Tag:noindex
X-PUBLISHED-TTL:PT1H
BEGIN:VTIMEZONE
TZID:UTC
BEGIN:STANDARD
TZOFFSETFROM:+0000
TZOFFSETTO:+0000
TZNAME:UTC
DTSTART:20230101T000000
END:STANDARD
END:VTIMEZONE
BEGIN:VEVENT
DTSTART;TZID=UTC:20240407T160000
DTEND;TZID=UTC:20240407T173000
DTSTAMP:20260424T225901
CREATED:20240104T195702Z
LAST-MODIFIED:20240329T134136Z
UID:2173-1712505600-1712511000@tubabach.org
SUMMARY:Tuba Bach presents . . . MSU "Melo" Trio
DESCRIPTION:Winners of the prestigious “Verdehr Trio” scholarship perform original works for violin\, clarinet\, and piano.
URL:https://tubabach.org/event/tuba-bach-presents-msu-melo-trio/
LOCATION:Immanuel Lutheran Church\, 726 Fuller Avenue\, Big Rapids\, MI\, 49307\, United States
ATTACH;FMTTYPE=image/png:https://tubabach.org/wp-content/uploads/2024/01/Melo-Trio.png
ORGANIZER;CN="Tuba Bach":MAILTO:mallett@tubabach.org
END:VEVENT
END:VCALENDAR