BEGIN:VCALENDAR
VERSION:2.0
PRODID:-//Tuba Bach - ECPv6.15.13//NONSGML v1.0//EN
CALSCALE:GREGORIAN
METHOD:PUBLISH
X-WR-CALNAME:Tuba Bach
X-ORIGINAL-URL:https://tubabach.org
X-WR-CALDESC:Events for Tuba Bach
REFRESH-INTERVAL;VALUE=DURATION:PT1H
X-Robots-Tag:noindex
X-PUBLISHED-TTL:PT1H
BEGIN:VTIMEZONE
TZID:UTC
BEGIN:STANDARD
TZOFFSETFROM:+0000
TZOFFSETTO:+0000
TZNAME:UTC
DTSTART:20230101T000000
END:STANDARD
END:VTIMEZONE
BEGIN:VEVENT
DTSTART;TZID=UTC:20240922T160000
DTEND;TZID=UTC:20240922T173000
DTSTAMP:20260424T174537
CREATED:20240201T194601Z
LAST-MODIFIED:20240817T193353Z
UID:2271-1727020800-1727026200@tubabach.org
SUMMARY:2024 Festival - Concert #2 - All-Star Guitar Quartet
DESCRIPTION:Americana/blues/jazz artist Paul Asbell\, Celtic master Tony McManus\, and Jazz great Randy Napoleon\, all held together by the versatile\, virtuoso bass guitar genius of Jeff Pedraz! Ed joins these four incredible musicians for an eclectic mix of duos\, trios\, and quartets.
URL:https://tubabach.org/event/2024-festival-concert-2-2/
LOCATION:Immanuel Lutheran Church\, 726 Fuller Avenue\, Big Rapids\, MI\, 49307\, United States
ORGANIZER;CN="Tuba Bach":MAILTO:mallett@tubabach.org
END:VEVENT
END:VCALENDAR