BEGIN:VCALENDAR
VERSION:2.0
PRODID:-//Tuba Bach - ECPv6.15.13//NONSGML v1.0//EN
CALSCALE:GREGORIAN
METHOD:PUBLISH
X-ORIGINAL-URL:https://tubabach.org
X-WR-CALDESC:Events for Tuba Bach
REFRESH-INTERVAL;VALUE=DURATION:PT1H
X-Robots-Tag:noindex
X-PUBLISHED-TTL:PT1H
BEGIN:VTIMEZONE
TZID:UTC
BEGIN:STANDARD
TZOFFSETFROM:+0000
TZOFFSETTO:+0000
TZNAME:UTC
DTSTART:20230101T000000
END:STANDARD
END:VTIMEZONE
BEGIN:VEVENT
DTSTART;TZID=UTC:20240929T160000
DTEND;TZID=UTC:20240929T173000
DTSTAMP:20260424T175139
CREATED:20240201T194743Z
LAST-MODIFIED:20240817T193900Z
UID:2275-1727625600-1727631000@tubabach.org
SUMMARY:2024 Festival - Concert #3 - String Quartet
DESCRIPTION:Featuring four doctoral candidates from the Michigan State University College of Music – violinists Alirna Korieva and Natasha Kubit\, violist Meagan Turner\, and cellist Mira Cheng\, with original works for euphonium/tuba and string quartet by Kevin Day\, Frank Gulino\, Lon Chaffin\, Noah Mallett\, and David Gillingham.
URL:https://tubabach.org/event/2024-festival-concert-3-2/
LOCATION:Immanuel Lutheran Church\, 726 Fuller Avenue\, Big Rapids\, MI\, 49307\, United States
ORGANIZER;CN="Tuba Bach":MAILTO:mallett@tubabach.org
END:VEVENT
END:VCALENDAR