BEGIN:VCALENDAR
VERSION:2.0
PRODID:-//Tuba Bach - ECPv6.15.13//NONSGML v1.0//EN
CALSCALE:GREGORIAN
METHOD:PUBLISH
X-WR-CALNAME:Tuba Bach
X-ORIGINAL-URL:https://tubabach.org
X-WR-CALDESC:Events for Tuba Bach
REFRESH-INTERVAL;VALUE=DURATION:PT1H
X-Robots-Tag:noindex
X-PUBLISHED-TTL:PT1H
BEGIN:VTIMEZONE
TZID:UTC
BEGIN:STANDARD
TZOFFSETFROM:+0000
TZOFFSETTO:+0000
TZNAME:UTC
DTSTART:20230101T000000
END:STANDARD
END:VTIMEZONE
BEGIN:VEVENT
DTSTART;TZID=UTC:20241005T190000
DTEND;TZID=UTC:20241005T203000
DTSTAMP:20260424T163717
CREATED:20240201T194820Z
LAST-MODIFIED:20240817T194217Z
UID:2277-1728154800-1728160200@tubabach.org
SUMMARY:2024 Festival - Concert #4 - Percussion Quartet
DESCRIPTION:Big Rapids natives Noah Mallett (master’s student at Michigan State University) and Kramer Milan (faculty at Boise State University)\, plus MSU professor Gwendolyn Dease and Hartt School of Music DMA candidate Dan Ingman. With world premieres of music for euphonium/tuba and percussion by Jeremy Makkonen\, Ed Mallett\, Noah Mallett\, and Ayako Pederson-Takeda – and much more!
URL:https://tubabach.org/event/2024-festival-concert-4/
LOCATION:Immanuel Lutheran Church\, 726 Fuller Avenue\, Big Rapids\, MI\, 49307\, United States
ORGANIZER;CN="Tuba Bach":MAILTO:mallett@tubabach.org
END:VEVENT
END:VCALENDAR