BEGIN:VCALENDAR
VERSION:2.0
PRODID:-//Tuba Bach - ECPv6.15.13//NONSGML v1.0//EN
CALSCALE:GREGORIAN
METHOD:PUBLISH
X-WR-CALNAME:Tuba Bach
X-ORIGINAL-URL:https://tubabach.org
X-WR-CALDESC:Events for Tuba Bach
REFRESH-INTERVAL;VALUE=DURATION:PT1H
X-Robots-Tag:noindex
X-PUBLISHED-TTL:PT1H
BEGIN:VTIMEZONE
TZID:UTC
BEGIN:STANDARD
TZOFFSETFROM:+0000
TZOFFSETTO:+0000
TZNAME:UTC
DTSTART:20240101T000000
END:STANDARD
END:VTIMEZONE
BEGIN:VEVENT
DTSTART;TZID=UTC:20251019T160000
DTEND;TZID=UTC:20251019T170000
DTSTAMP:20260424T014841
CREATED:20250906T143457Z
LAST-MODIFIED:20250906T145122Z
UID:3560-1760889600-1760893200@tubabach.org
SUMMARY:2025 Festival - Concert #6
DESCRIPTION:“At the Movies” – with Morgan Page\, flute; Elyor Gofurov\, clarinet; James Reed Ricotta\, trumpet; Cadence Miller\, percussion; Noah Mallett\, piano; Arianna Argentieri\, violin; Yu-Chen Lin\, cello; Benjamin Horne\, conductor
URL:https://tubabach.org/event/2025-festival-concert-6-2/
LOCATION:Immanuel Lutheran Church\, 726 Fuller Avenue\, Big Rapids\, MI\, 49307\, United States
ORGANIZER;CN="Tuba Bach":MAILTO:mallett@tubabach.org
END:VEVENT
END:VCALENDAR