BEGIN:VCALENDAR
VERSION:2.0
PRODID:-//Tuba Bach - ECPv6.15.13//NONSGML v1.0//EN
CALSCALE:GREGORIAN
METHOD:PUBLISH
X-WR-CALNAME:Tuba Bach
X-ORIGINAL-URL:https://tubabach.org
X-WR-CALDESC:Events for Tuba Bach
REFRESH-INTERVAL;VALUE=DURATION:PT1H
X-Robots-Tag:noindex
X-PUBLISHED-TTL:PT1H
BEGIN:VTIMEZONE
TZID:UTC
BEGIN:STANDARD
TZOFFSETFROM:+0000
TZOFFSETTO:+0000
TZNAME:UTC
DTSTART:20240101T000000
END:STANDARD
END:VTIMEZONE
BEGIN:VEVENT
DTSTART;TZID=UTC:20251116T160000
DTEND;TZID=UTC:20251116T170000
DTSTAMP:20260424T003139
CREATED:20251025T155954Z
LAST-MODIFIED:20251025T155954Z
UID:3752-1763308800-1763312400@tubabach.org
SUMMARY:Tuba Bach Presents... MSU Cello & Piano
DESCRIPTION:with Yu-Chen Lin\, cello and Soojin Kim\, piano
URL:https://tubabach.org/event/tuba-bach-presents-msu-cello-piano/
LOCATION:Immanuel Lutheran Church\, 726 Fuller Avenue\, Big Rapids\, MI\, 49307\, United States
ORGANIZER;CN="Tuba Bach":MAILTO:mallett@tubabach.org
END:VEVENT
END:VCALENDAR