BEGIN:VCALENDAR
VERSION:2.0
PRODID:-//Tuba Bach - ECPv6.15.13//NONSGML v1.0//EN
CALSCALE:GREGORIAN
METHOD:PUBLISH
X-WR-CALNAME:Tuba Bach
X-ORIGINAL-URL:https://tubabach.org
X-WR-CALDESC:Events for Tuba Bach
REFRESH-INTERVAL;VALUE=DURATION:PT1H
X-Robots-Tag:noindex
X-PUBLISHED-TTL:PT1H
BEGIN:VTIMEZONE
TZID:UTC
BEGIN:STANDARD
TZOFFSETFROM:+0000
TZOFFSETTO:+0000
TZNAME:UTC
DTSTART:20250101T000000
END:STANDARD
END:VTIMEZONE
BEGIN:VEVENT
DTSTART;TZID=UTC:20260503T160000
DTEND;TZID=UTC:20260503T170000
DTSTAMP:20260423T115410
CREATED:20260113T222009Z
LAST-MODIFIED:20260119T205007Z
UID:3913-1777824000-1777827600@tubabach.org
SUMMARY:Tuba Bach presents... MSU Piano & Percussion
DESCRIPTION:Noah Mallett\, piano and marimba. Featuring etudes by Camille Saint-Saens and Noah Mallett
URL:https://tubabach.org/event/tuba-bach-presents-msu-piano-percussion/
LOCATION:Immanuel Lutheran Church\, 726 Fuller Avenue\, Big Rapids\, MI\, 49307\, United States
ORGANIZER;CN="Tuba Bach":MAILTO:mallett@tubabach.org
END:VEVENT
BEGIN:VEVENT
DTSTART;TZID=UTC:20260621T160000
DTEND;TZID=UTC:20260621T170000
DTSTAMP:20260423T115410
CREATED:20260113T222541Z
LAST-MODIFIED:20260118T215245Z
UID:3917-1782057600-1782061200@tubabach.org
SUMMARY:Tuba Bach Summer Concert: Cowboy Jazz
DESCRIPTION:with Bruce Forman\, guitar
URL:https://tubabach.org/event/tuba-bach-summer-concert-cowboy-jazz/
LOCATION:Immanuel Lutheran Church\, 726 Fuller Avenue\, Big Rapids\, MI\, 49307\, United States
ATTACH;FMTTYPE=image/png:https://tubabach.org/wp-content/uploads/2026/01/Screenshot-2023-11-14-at-3.04.44-PM.png
ORGANIZER;CN="Tuba Bach":MAILTO:mallett@tubabach.org
END:VEVENT
BEGIN:VEVENT
DTSTART;TZID=UTC:20260912T190000
DTEND;TZID=UTC:20260912T200000
DTSTAMP:20260423T115410
CREATED:20260113T222747Z
LAST-MODIFIED:20260113T222747Z
UID:3919-1789239600-1789243200@tubabach.org
SUMMARY:2026 Festival - Concert #1
DESCRIPTION:
URL:https://tubabach.org/event/2026-festival-concert-1/
LOCATION:Immanuel Lutheran Church\, 726 Fuller Avenue\, Big Rapids\, MI\, 49307\, United States
ORGANIZER;CN="Tuba Bach":MAILTO:mallett@tubabach.org
END:VEVENT
BEGIN:VEVENT
DTSTART;TZID=UTC:20260913T160000
DTEND;TZID=UTC:20260913T170000
DTSTAMP:20260423T115410
CREATED:20260113T222825Z
LAST-MODIFIED:20260113T222825Z
UID:3921-1789315200-1789318800@tubabach.org
SUMMARY:2026 Festival - Concert #1
DESCRIPTION:
URL:https://tubabach.org/event/2026-festival-concert-1-2/
LOCATION:Immanuel Lutheran Church\, 726 Fuller Avenue\, Big Rapids\, MI\, 49307\, United States
ORGANIZER;CN="Tuba Bach":MAILTO:mallett@tubabach.org
END:VEVENT
BEGIN:VEVENT
DTSTART;TZID=UTC:20260919T190000
DTEND;TZID=UTC:20260919T200000
DTSTAMP:20260423T115410
CREATED:20260113T222900Z
LAST-MODIFIED:20260113T222900Z
UID:3923-1789844400-1789848000@tubabach.org
SUMMARY:2026 Festival - Concert #2
DESCRIPTION:
URL:https://tubabach.org/event/2026-festival-concert-2/
LOCATION:Immanuel Lutheran Church\, 726 Fuller Avenue\, Big Rapids\, MI\, 49307\, United States
ORGANIZER;CN="Tuba Bach":MAILTO:mallett@tubabach.org
END:VEVENT
BEGIN:VEVENT
DTSTART;TZID=UTC:20260920T160000
DTEND;TZID=UTC:20260920T170000
DTSTAMP:20260423T115410
CREATED:20260113T222942Z
LAST-MODIFIED:20260113T222942Z
UID:3925-1789920000-1789923600@tubabach.org
SUMMARY:2026 Festival - Concert #2
DESCRIPTION:
URL:https://tubabach.org/event/2026-festival-concert-2-2/
LOCATION:Immanuel Lutheran Church\, 726 Fuller Avenue\, Big Rapids\, MI\, 49307\, United States
ORGANIZER;CN="Tuba Bach":MAILTO:mallett@tubabach.org
END:VEVENT
BEGIN:VEVENT
DTSTART;TZID=UTC:20260926T190000
DTEND;TZID=UTC:20260926T200000
DTSTAMP:20260423T115410
CREATED:20260113T223133Z
LAST-MODIFIED:20260113T223133Z
UID:3927-1790449200-1790452800@tubabach.org
SUMMARY:2026 Festival - Concert #3
DESCRIPTION:
URL:https://tubabach.org/event/2026-festival-concert-3/
LOCATION:Immanuel Lutheran Church\, 726 Fuller Avenue\, Big Rapids\, MI\, 49307\, United States
ORGANIZER;CN="Tuba Bach":MAILTO:mallett@tubabach.org
END:VEVENT
BEGIN:VEVENT
DTSTART;TZID=UTC:20260927T160000
DTEND;TZID=UTC:20260927T170000
DTSTAMP:20260423T115410
CREATED:20260113T223230Z
LAST-MODIFIED:20260113T223230Z
UID:3929-1790524800-1790528400@tubabach.org
SUMMARY:2026 Festival - Concert #3
DESCRIPTION:
URL:https://tubabach.org/event/2026-festival-concert-3-2/
LOCATION:Immanuel Lutheran Church\, 726 Fuller Avenue\, Big Rapids\, MI\, 49307\, United States
ORGANIZER;CN="Tuba Bach":MAILTO:mallett@tubabach.org
END:VEVENT
BEGIN:VEVENT
DTSTART;TZID=UTC:20261003T190000
DTEND;TZID=UTC:20261003T200000
DTSTAMP:20260423T115410
CREATED:20260113T223318Z
LAST-MODIFIED:20260113T223318Z
UID:3931-1791054000-1791057600@tubabach.org
SUMMARY:2026 Festival - Concert #4
DESCRIPTION:
URL:https://tubabach.org/event/2026-festival-concert-4/
LOCATION:Immanuel Lutheran Church\, 726 Fuller Avenue\, Big Rapids\, MI\, 49307\, United States
ORGANIZER;CN="Tuba Bach":MAILTO:mallett@tubabach.org
END:VEVENT
BEGIN:VEVENT
DTSTART;TZID=UTC:20261004T160000
DTEND;TZID=UTC:20261004T170000
DTSTAMP:20260423T115410
CREATED:20260113T223353Z
LAST-MODIFIED:20260113T223353Z
UID:3933-1791129600-1791133200@tubabach.org
SUMMARY:2026 Festival - Concert #4
DESCRIPTION:
URL:https://tubabach.org/event/2026-festival-concert-4-2/
LOCATION:Immanuel Lutheran Church\, 726 Fuller Avenue\, Big Rapids\, MI\, 49307\, United States
ORGANIZER;CN="Tuba Bach":MAILTO:mallett@tubabach.org
END:VEVENT
BEGIN:VEVENT
DTSTART;TZID=UTC:20261010T190000
DTEND;TZID=UTC:20261010T200000
DTSTAMP:20260423T115410
CREATED:20260113T223435Z
LAST-MODIFIED:20260113T223435Z
UID:3935-1791658800-1791662400@tubabach.org
SUMMARY:2026 Festival - Concert #5
DESCRIPTION:
URL:https://tubabach.org/event/2026-festival-concert-5/
LOCATION:Immanuel Lutheran Church\, 726 Fuller Avenue\, Big Rapids\, MI\, 49307\, United States
ORGANIZER;CN="Tuba Bach":MAILTO:mallett@tubabach.org
END:VEVENT
BEGIN:VEVENT
DTSTART;TZID=UTC:20261011T160000
DTEND;TZID=UTC:20261011T170000
DTSTAMP:20260423T115410
CREATED:20260113T223500Z
LAST-MODIFIED:20260113T223500Z
UID:3937-1791734400-1791738000@tubabach.org
SUMMARY:2026 Festival - Concert #5
DESCRIPTION:
URL:https://tubabach.org/event/2026-festival-concert-5-2/
LOCATION:Immanuel Lutheran Church\, 726 Fuller Avenue\, Big Rapids\, MI\, 49307\, United States
ORGANIZER;CN="Tuba Bach":MAILTO:mallett@tubabach.org
END:VEVENT
BEGIN:VEVENT
DTSTART;TZID=UTC:20261017T190000
DTEND;TZID=UTC:20261017T200000
DTSTAMP:20260423T115410
CREATED:20260113T223549Z
LAST-MODIFIED:20260113T223549Z
UID:3939-1792263600-1792267200@tubabach.org
SUMMARY:2026 Festival - Concert #6
DESCRIPTION:
URL:https://tubabach.org/event/2026-festival-concert-6/
LOCATION:Immanuel Lutheran Church\, 726 Fuller Avenue\, Big Rapids\, MI\, 49307\, United States
ORGANIZER;CN="Tuba Bach":MAILTO:mallett@tubabach.org
END:VEVENT
BEGIN:VEVENT
DTSTART;TZID=UTC:20261018T160000
DTEND;TZID=UTC:20261018T170000
DTSTAMP:20260423T115410
CREATED:20260113T223612Z
LAST-MODIFIED:20260113T223612Z
UID:3941-1792339200-1792342800@tubabach.org
SUMMARY:2026 Festival - Concert #6
DESCRIPTION:
URL:https://tubabach.org/event/2026-festival-concert-6-2/
LOCATION:Immanuel Lutheran Church\, 726 Fuller Avenue\, Big Rapids\, MI\, 49307\, United States
ORGANIZER;CN="Tuba Bach":MAILTO:mallett@tubabach.org
END:VEVENT
END:VCALENDAR