BEGIN:VCALENDAR
VERSION:2.0
PRODID:-//Tuba Bach - ECPv6.15.13//NONSGML v1.0//EN
CALSCALE:GREGORIAN
METHOD:PUBLISH
X-WR-CALNAME:Tuba Bach
X-ORIGINAL-URL:https://tubabach.org
X-WR-CALDESC:Events for Tuba Bach
REFRESH-INTERVAL;VALUE=DURATION:PT1H
X-Robots-Tag:noindex
X-PUBLISHED-TTL:PT1H
BEGIN:VTIMEZONE
TZID:UTC
BEGIN:STANDARD
TZOFFSETFROM:+0000
TZOFFSETTO:+0000
TZNAME:UTC
DTSTART:20230101T000000
END:STANDARD
END:VTIMEZONE
BEGIN:VEVENT
DTSTART;TZID=UTC:20260104T160000
DTEND;TZID=UTC:20260104T170000
DTSTAMP:20260424T002310
CREATED:20251219T144735Z
LAST-MODIFIED:20251219T144735Z
UID:3855-1767542400-1767546000@tubabach.org
SUMMARY:Tuba Bach presents... 2026 MSU International Piano Exposition - Concert 1
DESCRIPTION:Jingwei Yuan\, piano
URL:https://tubabach.org/event/tuba-bach-presents-2026-msu-international-piano-exposition-concert-1/
LOCATION:Immanuel Lutheran Church\, 726 Fuller Avenue\, Big Rapids\, MI\, 49307\, United States
ORGANIZER;CN="Tuba Bach":MAILTO:mallett@tubabach.org
END:VEVENT
BEGIN:VEVENT
DTSTART;TZID=UTC:20251221T160000
DTEND;TZID=UTC:20251221T170000
DTSTAMP:20260424T002310
CREATED:20250906T143658Z
LAST-MODIFIED:20250906T143658Z
UID:3562-1766332800-1766336400@tubabach.org
SUMMARY:Tuba Bach Christmas 2025
DESCRIPTION:with The McLain Family Band
URL:https://tubabach.org/event/tuba-bach-christmas-2025/
LOCATION:Immanuel Lutheran Church\, 726 Fuller Avenue\, Big Rapids\, MI\, 49307\, United States
ORGANIZER;CN="Tuba Bach":MAILTO:mallett@tubabach.org
END:VEVENT
BEGIN:VEVENT
DTSTART;TZID=UTC:20251116T160000
DTEND;TZID=UTC:20251116T170000
DTSTAMP:20260424T002310
CREATED:20251025T155954Z
LAST-MODIFIED:20251025T155954Z
UID:3752-1763308800-1763312400@tubabach.org
SUMMARY:Tuba Bach Presents... MSU Cello & Piano
DESCRIPTION:with Yu-Chen Lin\, cello and Soojin Kim\, piano
URL:https://tubabach.org/event/tuba-bach-presents-msu-cello-piano/
LOCATION:Immanuel Lutheran Church\, 726 Fuller Avenue\, Big Rapids\, MI\, 49307\, United States
ORGANIZER;CN="Tuba Bach":MAILTO:mallett@tubabach.org
END:VEVENT
BEGIN:VEVENT
DTSTART;TZID=UTC:20251019T160000
DTEND;TZID=UTC:20251019T170000
DTSTAMP:20260424T002310
CREATED:20250906T143457Z
LAST-MODIFIED:20250906T145122Z
UID:3560-1760889600-1760893200@tubabach.org
SUMMARY:2025 Festival - Concert #6
DESCRIPTION:“At the Movies” – with Morgan Page\, flute; Elyor Gofurov\, clarinet; James Reed Ricotta\, trumpet; Cadence Miller\, percussion; Noah Mallett\, piano; Arianna Argentieri\, violin; Yu-Chen Lin\, cello; Benjamin Horne\, conductor
URL:https://tubabach.org/event/2025-festival-concert-6-2/
LOCATION:Immanuel Lutheran Church\, 726 Fuller Avenue\, Big Rapids\, MI\, 49307\, United States
ORGANIZER;CN="Tuba Bach":MAILTO:mallett@tubabach.org
END:VEVENT
BEGIN:VEVENT
DTSTART;TZID=UTC:20251018T190000
DTEND;TZID=UTC:20251018T200000
DTSTAMP:20260424T002310
CREATED:20250906T143421Z
LAST-MODIFIED:20250906T145102Z
UID:3558-1760814000-1760817600@tubabach.org
SUMMARY:2025 Festival - Concert #6
DESCRIPTION:“At the Movies” – with Morgan Page\, flute; Elyor Gofurov\, clarinet; James Reed Ricotta\, trumpet; Cadence Miller\, percussion; Noah Mallett\, piano; Arianna Argentieri\, violin; Yu-Chen Lin\, cello; Benjamin Horne\, conductor
URL:https://tubabach.org/event/2025-festival-concert-6/
LOCATION:Immanuel Lutheran Church\, 726 Fuller Avenue\, Big Rapids\, MI\, 49307\, United States
ORGANIZER;CN="Tuba Bach":MAILTO:mallett@tubabach.org
END:VEVENT
BEGIN:VEVENT
DTSTART;TZID=UTC:20251012T160000
DTEND;TZID=UTC:20251012T170000
DTSTAMP:20260424T002310
CREATED:20250906T143326Z
LAST-MODIFIED:20250906T155939Z
UID:3556-1760284800-1760288400@tubabach.org
SUMMARY:2025 Festival - Concert #5
DESCRIPTION:“In a Celtic Pub” – with Tony MacManus\, guitar; Shane Cook\, fiddle; Sean Gavin\, pipes
URL:https://tubabach.org/event/2025-festival-concert-5-2/
LOCATION:Immanuel Lutheran Church\, 726 Fuller Avenue\, Big Rapids\, MI\, 49307\, United States
ORGANIZER;CN="Tuba Bach":MAILTO:mallett@tubabach.org
END:VEVENT
BEGIN:VEVENT
DTSTART;TZID=UTC:20251011T190000
DTEND;TZID=UTC:20251011T200000
DTSTAMP:20260424T002310
CREATED:20250906T143236Z
LAST-MODIFIED:20250906T155918Z
UID:3554-1760209200-1760212800@tubabach.org
SUMMARY:2025 Festival - Concert #5
DESCRIPTION:“In a Celtic Pub” – with Tony MacManus\, guitar; Shane Cook\, fiddle; Sean Gavin\, pipes
URL:https://tubabach.org/event/2025-festival-concert-5/
LOCATION:Immanuel Lutheran Church\, 726 Fuller Avenue\, Big Rapids\, MI\, 49307\, United States
ORGANIZER;CN="Tuba Bach":MAILTO:mallett@tubabach.org
END:VEVENT
BEGIN:VEVENT
DTSTART;TZID=UTC:20251005T160000
DTEND;TZID=UTC:20251005T170000
DTSTAMP:20260424T002310
CREATED:20250906T143150Z
LAST-MODIFIED:20250906T144607Z
UID:3552-1759680000-1759683600@tubabach.org
SUMMARY:2025 Festival - Concert #4
DESCRIPTION:“In a Prog Music Studio” – with Jim Alfredson\, keyboards; Noah Mallett\, piano; Randy Napoleon\, guitar; Jeff Shoup\, drums
URL:https://tubabach.org/event/2025-festival-concert-4-2/
LOCATION:Immanuel Lutheran Church\, 726 Fuller Avenue\, Big Rapids\, MI\, 49307\, United States
ORGANIZER;CN="Tuba Bach":MAILTO:mallett@tubabach.org
END:VEVENT
BEGIN:VEVENT
DTSTART;TZID=UTC:20251004T190000
DTEND;TZID=UTC:20251004T200000
DTSTAMP:20260424T002310
CREATED:20250906T143116Z
LAST-MODIFIED:20250906T144525Z
UID:3550-1759604400-1759608000@tubabach.org
SUMMARY:2025 Festival - Concert #4
DESCRIPTION:“In a Prog Music Studio” – with Jim Alfredson\, keyboards; Noah Mallett\, piano; Randy Napoleon\, guitar; Jeff Shoup\, drums
URL:https://tubabach.org/event/2025-festival-concert-4/
LOCATION:Immanuel Lutheran Church\, 726 Fuller Avenue\, Big Rapids\, MI\, 49307\, United States
ORGANIZER;CN="Tuba Bach":MAILTO:mallett@tubabach.org
END:VEVENT
BEGIN:VEVENT
DTSTART;TZID=UTC:20250928T160000
DTEND;TZID=UTC:20250928T170000
DTSTAMP:20260424T002310
CREATED:20250906T143009Z
LAST-MODIFIED:20250919T113210Z
UID:3548-1759075200-1759078800@tubabach.org
SUMMARY:2025 Festival - Concert #3
DESCRIPTION:“In a Jazz Club” – with Michael Dease\, trombone and saxophone; Alvin Waddles\, piano; Rodney Whitaker\, bass; Gayelynn McKinney\, drums
URL:https://tubabach.org/event/2025-festival-concert-3-2/
LOCATION:Immanuel Lutheran Church\, 726 Fuller Avenue\, Big Rapids\, MI\, 49307\, United States
ORGANIZER;CN="Tuba Bach":MAILTO:mallett@tubabach.org
END:VEVENT
BEGIN:VEVENT
DTSTART;TZID=UTC:20250927T190000
DTEND;TZID=UTC:20250927T200000
DTSTAMP:20260424T002310
CREATED:20250906T142916Z
LAST-MODIFIED:20250919T113121Z
UID:3546-1758999600-1759003200@tubabach.org
SUMMARY:2025 Festival - Concert #3
DESCRIPTION:“In a Jazz Club” – with Michael Dease\, trombone and saxophone; Alvin Waddles\, piano; Rodney Whitaker\, bass; Gayelynn McKinney\, drums
URL:https://tubabach.org/event/2025-festival-concert-3/
LOCATION:Immanuel Lutheran Church\, 726 Fuller Avenue\, Big Rapids\, MI\, 49307\, United States
ORGANIZER;CN="Tuba Bach":MAILTO:mallett@tubabach.org
END:VEVENT
BEGIN:VEVENT
DTSTART;TZID=UTC:20250921T160000
DTEND;TZID=UTC:20250921T170000
DTSTAMP:20260424T002310
CREATED:20250906T142803Z
LAST-MODIFIED:20250906T155819Z
UID:3544-1758470400-1758474000@tubabach.org
SUMMARY:2025 Festival - Concert #2
DESCRIPTION:“In a Venezuelan Teatro” – with Marco Granados\, flute; Hector Molina\, cuatro and guitar; Leonardo Granados\, percussion and vocals; Gonzalo Teppa\, bass
URL:https://tubabach.org/event/2025-festival-concert-2-2/
LOCATION:Immanuel Lutheran Church\, 726 Fuller Avenue\, Big Rapids\, MI\, 49307\, United States
ORGANIZER;CN="Tuba Bach":MAILTO:mallett@tubabach.org
END:VEVENT
BEGIN:VEVENT
DTSTART;TZID=UTC:20250920T190000
DTEND;TZID=UTC:20250920T200000
DTSTAMP:20260424T002310
CREATED:20250906T142718Z
LAST-MODIFIED:20250906T155756Z
UID:3542-1758394800-1758398400@tubabach.org
SUMMARY:2025 Festival - Concert #2
DESCRIPTION:“In a Venezuelan Teatro” – with Marco Granados\, flute; Hector Molina\, cuatro and guitar; Leonardo Granados\, percussion and vocals; Gonzalo Teppa\, bass
URL:https://tubabach.org/event/2025-festival-concert-2/
LOCATION:Immanuel Lutheran Church\, 726 Fuller Avenue\, Big Rapids\, MI\, 49307\, United States
ORGANIZER;CN="Tuba Bach":MAILTO:mallett@tubabach.org
END:VEVENT
BEGIN:VEVENT
DTSTART;TZID=UTC:20250914T160000
DTEND;TZID=UTC:20250914T170000
DTSTAMP:20260424T002310
CREATED:20250906T142558Z
LAST-MODIFIED:20250906T143924Z
UID:3540-1757865600-1757869200@tubabach.org
SUMMARY:2025 Festival - Concert #1
DESCRIPTION:“At a Magic Show” – with Mark Tripp\, magician
URL:https://tubabach.org/event/2025-festival-concert-1-2/
LOCATION:Immanuel Lutheran Church\, 726 Fuller Avenue\, Big Rapids\, MI\, 49307\, United States
ORGANIZER;CN="Tuba Bach":MAILTO:mallett@tubabach.org
END:VEVENT
BEGIN:VEVENT
DTSTART;TZID=UTC:20250913T190000
DTEND;TZID=UTC:20250913T200000
DTSTAMP:20260424T002310
CREATED:20250906T142515Z
LAST-MODIFIED:20250906T143842Z
UID:3538-1757790000-1757793600@tubabach.org
SUMMARY:2025 Festival - Concert #1
DESCRIPTION:“At a Magic Show” – with Mark Tripp\, magician
URL:https://tubabach.org/event/2025-festival-concert-1/
LOCATION:Immanuel Lutheran Church\, 726 Fuller Avenue\, Big Rapids\, MI\, 49307\, United States
ORGANIZER;CN="Tuba Bach":MAILTO:mallett@tubabach.org
END:VEVENT
BEGIN:VEVENT
DTSTART;TZID=UTC:20250406T160000
DTEND;TZID=UTC:20250406T170000
DTSTAMP:20260424T002310
CREATED:20250201T153544Z
LAST-MODIFIED:20250201T153922Z
UID:3430-1743955200-1743958800@tubabach.org
SUMMARY:Tuba Bach presents... MSU String Quartet
DESCRIPTION:with Alirna Korieva and Natasha Kubit\, violins; Meagan Turner\, viola; and Mira Cheng\, cello
URL:https://tubabach.org/event/tuba-bach-presents-msu-string-quartet/
LOCATION:Immanuel Lutheran Church\, 726 Fuller Avenue\, Big Rapids\, MI\, 49307\, United States
ORGANIZER;CN="Tuba Bach":MAILTO:mallett@tubabach.org
END:VEVENT
BEGIN:VEVENT
DTSTART;TZID=UTC:20250330T160000
DTEND;TZID=UTC:20250330T170000
DTSTAMP:20260424T002310
CREATED:20250201T154206Z
LAST-MODIFIED:20250201T154206Z
UID:3440-1743350400-1743354000@tubabach.org
SUMMARY:Tuba Bach Spring Concert 2025
DESCRIPTION:with Phil Sinder\, tuba and Noah Mallett\, piano
URL:https://tubabach.org/event/tuba-bach-spring-concert-2025/
LOCATION:Immanuel Lutheran Church\, 726 Fuller Avenue\, Big Rapids\, MI\, 49307\, United States
ORGANIZER;CN="Tuba Bach":MAILTO:mallett@tubabach.org
END:VEVENT
BEGIN:VEVENT
DTSTART;TZID=UTC:20250316T160000
DTEND;TZID=UTC:20250316T170000
DTSTAMP:20260424T002310
CREATED:20250201T153319Z
LAST-MODIFIED:20250201T153411Z
UID:3425-1742140800-1742144400@tubabach.org
SUMMARY:Tuba Bach presents... MSU Sax Quartet
DESCRIPTION:Halite Saxophone Quartet
URL:https://tubabach.org/event/tuba-bach-presents-msu-sax-quartet/
LOCATION:Immanuel Lutheran Church\, 726 Fuller Avenue\, Big Rapids\, MI\, 49307\, United States
ORGANIZER;CN="Tuba Bach":MAILTO:mallett@tubabach.org
END:VEVENT
BEGIN:VEVENT
DTSTART;TZID=UTC:20250211T190000
DTEND;TZID=UTC:20250211T203000
DTSTAMP:20260424T002310
CREATED:20241205T184215Z
LAST-MODIFIED:20241205T184215Z
UID:3254-1739300400-1739305800@tubabach.org
SUMMARY:Tuba Bach presents... MSU Organ Series - Concert 2
DESCRIPTION:Noah Mallett\, organ
URL:https://tubabach.org/event/tuba-bach-presents-msu-organ-series-concert-2/
LOCATION:United Church of Big Rapids\, 120 S. State Street\, Big Rapids\, MI\, 49307\, United States
ORGANIZER;CN="Tuba Bach":MAILTO:mallett@tubabach.org
END:VEVENT
BEGIN:VEVENT
DTSTART;TZID=UTC:20250204T190000
DTEND;TZID=UTC:20250204T203000
DTSTAMP:20260424T002310
CREATED:20241205T184100Z
LAST-MODIFIED:20250201T153025Z
UID:3251-1738695600-1738701000@tubabach.org
SUMMARY:Tuba Bach presents... MSU Organ Series - Concert 1
DESCRIPTION:Hae Won Jang\, organ
URL:https://tubabach.org/event/tuba-bach-presents-msu-organ-series-concert-1/
LOCATION:United Church of Big Rapids\, 120 S. State Street\, Big Rapids\, MI\, 49307\, United States
ORGANIZER;CN="Tuba Bach":MAILTO:mallett@tubabach.org
END:VEVENT
BEGIN:VEVENT
DTSTART;TZID=UTC:20250201T190000
DTEND;TZID=UTC:20250201T203000
DTSTAMP:20260424T002310
CREATED:20241205T183658Z
LAST-MODIFIED:20250201T153759Z
UID:3249-1738436400-1738441800@tubabach.org
SUMMARY:Tuba Bach presents... Randy Napoleon Trio
DESCRIPTION:with Randy Napoleon\, guitar; Langston Kitchen\, bass; and Joe Fielder\, drums
URL:https://tubabach.org/event/tuba-bach-presents-randy-napoleon-trio/
LOCATION:Immanuel Lutheran Church\, 726 Fuller Avenue\, Big Rapids\, MI\, 49307\, United States
ORGANIZER;CN="Tuba Bach":MAILTO:mallett@tubabach.org
END:VEVENT
BEGIN:VEVENT
DTSTART;TZID=UTC:20250126T160000
DTEND;TZID=UTC:20250126T173000
DTSTAMP:20260424T002310
CREATED:20241205T183515Z
LAST-MODIFIED:20241206T135623Z
UID:3247-1737907200-1737912600@tubabach.org
SUMMARY:Tuba Bach presents... 2025 MSU International Piano Exposition - Concert 4
DESCRIPTION:Sungyeon Ahn\, piano with Ivo Shin de Souza\, flute
URL:https://tubabach.org/event/tuba-bach-presents-2025-msu-international-piano-exposition-concert-4/
LOCATION:Immanuel Lutheran Church\, 726 Fuller Avenue\, Big Rapids\, MI\, 49307\, United States
ORGANIZER;CN="Tuba Bach":MAILTO:mallett@tubabach.org
END:VEVENT
BEGIN:VEVENT
DTSTART;TZID=UTC:20250119T160000
DTEND;TZID=UTC:20250119T173000
DTSTAMP:20260424T002310
CREATED:20241205T183405Z
LAST-MODIFIED:20241205T184614Z
UID:3245-1737302400-1737307800@tubabach.org
SUMMARY:Tuba Bach presents... 2025 MSU International Piano Exposition - Concert 3
DESCRIPTION:Yi-Hui Chen\, piano with Tung-An Chien\, cello
URL:https://tubabach.org/event/tuba-bach-presents-2025-msu-international-piano-exposition-concert-3/
LOCATION:Immanuel Lutheran Church\, 726 Fuller Avenue\, Big Rapids\, MI\, 49307\, United States
ORGANIZER;CN="Tuba Bach":MAILTO:mallett@tubabach.org
END:VEVENT
BEGIN:VEVENT
DTSTART;TZID=UTC:20250112T160000
DTEND;TZID=UTC:20250112T173000
DTSTAMP:20260424T002310
CREATED:20241205T183242Z
LAST-MODIFIED:20241205T183242Z
UID:3243-1736697600-1736703000@tubabach.org
SUMMARY:Tuba Bach presents... 2025 MSU International Piano Exposition - Concert 2
DESCRIPTION:Xiaoxiao Ouyang\, piano
URL:https://tubabach.org/event/tuba-bach-presents-2025-msu-international-piano-exposition-concert-2/
LOCATION:Immanuel Lutheran Church\, 726 Fuller Avenue\, Big Rapids\, MI\, 49307\, United States
ORGANIZER;CN="Tuba Bach":MAILTO:mallett@tubabach.org
END:VEVENT
BEGIN:VEVENT
DTSTART;TZID=UTC:20250105T160000
DTEND;TZID=UTC:20250105T173000
DTSTAMP:20260424T002310
CREATED:20241205T183058Z
LAST-MODIFIED:20241205T183058Z
UID:3241-1736092800-1736098200@tubabach.org
SUMMARY:Tuba Bach presents... 2025 MSU International Piano Exposition - Concert 1
DESCRIPTION:Jiwon Chun\, piano
URL:https://tubabach.org/event/tuba-bach-presents-2025-msu-international-piano-exposition-concert-1/
LOCATION:Immanuel Lutheran Church\, 726 Fuller Avenue\, Big Rapids\, MI\, 49307\, United States
ORGANIZER;CN="Tuba Bach":MAILTO:mallett@tubabach.org
END:VEVENT
BEGIN:VEVENT
DTSTART;TZID=UTC:20241215T160000
DTEND;TZID=UTC:20241215T173000
DTSTAMP:20260424T002310
CREATED:20240201T195336Z
LAST-MODIFIED:20241025T000336Z
UID:2289-1734278400-1734283800@tubabach.org
SUMMARY:Tuba Bach Christmas Concert
DESCRIPTION:A Christmas Buffet\, featuring soprano Pheonix Miranda\, baritone Jose Luis Maldonado\, and pianist Alvin Waddles. A sensational sampling of tasty bites from opera\, Broadway\, pop\, jazz\, gospel\, and more!
URL:https://tubabach.org/event/tuba-bach-christmas-concert/
LOCATION:Immanuel Lutheran Church\, 726 Fuller Avenue\, Big Rapids\, MI\, 49307\, United States
ORGANIZER;CN="Tuba Bach":MAILTO:mallett@tubabach.org
END:VEVENT
BEGIN:VEVENT
DTSTART;TZID=UTC:20241124T160000
DTEND;TZID=UTC:20241124T173000
DTSTAMP:20260424T002310
CREATED:20241121T222302Z
LAST-MODIFIED:20241121T222302Z
UID:3231-1732464000-1732469400@tubabach.org
SUMMARY:Tuba Bach Presents... MSU Percussion Duo
DESCRIPTION:Percussionists Mei-Shyuan Chiou and Michael Giunta present a program of original works and arrangements for vibraphone and six-mallet marimba.
URL:https://tubabach.org/event/tuba-bach-presents-msu-percussion-duo/
LOCATION:Immanuel Lutheran Church\, 726 Fuller Avenue\, Big Rapids\, MI\, 49307\, United States
END:VEVENT
BEGIN:VEVENT
DTSTART;TZID=UTC:20241020T160000
DTEND;TZID=UTC:20241020T173000
DTSTAMP:20260424T002310
CREATED:20240201T195239Z
LAST-MODIFIED:20240817T195104Z
UID:2287-1729440000-1729445400@tubabach.org
SUMMARY:2024 Festival - Concert #6 - Vintage Vocal Quartet
DESCRIPTION:Four faculty members from the world-renowned Berklee College of Music in Boston. In addition to their vocal talents\, Chris Humphrey\, Taylor O’Donnell\, Paul Pampinella\, and David Thorne Scott are also all accomplished instrumentalists. Ed joins in the fun for a trip down Memory Lane back to the swing era – and a delightful close to the 2024 Tuba Bach Festival!
URL:https://tubabach.org/event/2024-festival-concert-6-2/
LOCATION:Immanuel Lutheran Church\, 726 Fuller Avenue\, Big Rapids\, MI\, 49307\, United States
ORGANIZER;CN="Tuba Bach":MAILTO:mallett@tubabach.org
END:VEVENT
BEGIN:VEVENT
DTSTART;TZID=UTC:20241019T190000
DTEND;TZID=UTC:20241019T203000
DTSTAMP:20260424T002310
CREATED:20240201T195153Z
LAST-MODIFIED:20240817T195035Z
UID:2285-1729364400-1729369800@tubabach.org
SUMMARY:2024 Festival - Concert #6 - Vintage Vocal Quartet
DESCRIPTION:Four faculty members from the world-renowned Berklee College of Music in Boston. In addition to their vocal talents\, Chris Humphrey\, Taylor O’Donnell\, Paul Pampinella\, and David Thorne Scott are also all accomplished instrumentalists. Ed joins in the fun for a trip down Memory Lane back to the swing era – and a delightful close to the 2024 Tuba Bach Festival!
URL:https://tubabach.org/event/2024-festival-concert-6/
LOCATION:Immanuel Lutheran Church\, 726 Fuller Avenue\, Big Rapids\, MI\, 49307\, United States
ORGANIZER;CN="Tuba Bach":MAILTO:mallett@tubabach.org
END:VEVENT
BEGIN:VEVENT
DTSTART;TZID=UTC:20241013T160000
DTEND;TZID=UTC:20241013T173000
DTSTAMP:20260424T002310
CREATED:20240201T195101Z
LAST-MODIFIED:20240817T194724Z
UID:2283-1728835200-1728840600@tubabach.org
SUMMARY:2024 Festival - Concert #5 - Orbis Sonorum
DESCRIPTION:Orbis Sonorum (World of Sound) Quartet\, featuring Uzbek violinist Alirna Korieva\, Georgian cellist Sandro Sidamonidze\, jazz pianist Jordan Anderson representing Cameroonian and Central African traditions\, and percussionist Angel Hernandez representing Afro-Cuban and Latin American traditions\, along with Ed Mallett on euphonium and tuba. Exciting mash-ups and explorations of diverse musical cultures coming together to create something unique.
URL:https://tubabach.org/event/2024-festival-concert-5-2/
LOCATION:Immanuel Lutheran Church\, 726 Fuller Avenue\, Big Rapids\, MI\, 49307\, United States
ORGANIZER;CN="Tuba Bach":MAILTO:mallett@tubabach.org
END:VEVENT
END:VCALENDAR