BEGIN:VCALENDAR
VERSION:2.0
PRODID:-//Tuba Bach - ECPv6.15.13//NONSGML v1.0//EN
CALSCALE:GREGORIAN
METHOD:PUBLISH
X-ORIGINAL-URL:https://tubabach.org
X-WR-CALDESC:Events for Tuba Bach
REFRESH-INTERVAL;VALUE=DURATION:PT1H
X-Robots-Tag:noindex
X-PUBLISHED-TTL:PT1H
BEGIN:VTIMEZONE
TZID:UTC
BEGIN:STANDARD
TZOFFSETFROM:+0000
TZOFFSETTO:+0000
TZNAME:UTC
DTSTART:20250101T000000
END:STANDARD
END:VTIMEZONE
BEGIN:VEVENT
DTSTART;TZID=UTC:20261011T160000
DTEND;TZID=UTC:20261011T170000
DTSTAMP:20260423T230727
CREATED:20260113T223500Z
LAST-MODIFIED:20260113T223500Z
UID:3937-1791734400-1791738000@tubabach.org
SUMMARY:2026 Festival - Concert #5
DESCRIPTION:
URL:https://tubabach.org/event/2026-festival-concert-5-2/
LOCATION:Immanuel Lutheran Church\, 726 Fuller Avenue\, Big Rapids\, MI\, 49307\, United States
ORGANIZER;CN="Tuba Bach":MAILTO:mallett@tubabach.org
END:VEVENT
BEGIN:VEVENT
DTSTART;TZID=UTC:20261017T190000
DTEND;TZID=UTC:20261017T200000
DTSTAMP:20260423T230727
CREATED:20260113T223549Z
LAST-MODIFIED:20260113T223549Z
UID:3939-1792263600-1792267200@tubabach.org
SUMMARY:2026 Festival - Concert #6
DESCRIPTION:
URL:https://tubabach.org/event/2026-festival-concert-6/
LOCATION:Immanuel Lutheran Church\, 726 Fuller Avenue\, Big Rapids\, MI\, 49307\, United States
ORGANIZER;CN="Tuba Bach":MAILTO:mallett@tubabach.org
END:VEVENT
BEGIN:VEVENT
DTSTART;TZID=UTC:20261018T160000
DTEND;TZID=UTC:20261018T170000
DTSTAMP:20260423T230727
CREATED:20260113T223612Z
LAST-MODIFIED:20260113T223612Z
UID:3941-1792339200-1792342800@tubabach.org
SUMMARY:2026 Festival - Concert #6
DESCRIPTION:
URL:https://tubabach.org/event/2026-festival-concert-6-2/
LOCATION:Immanuel Lutheran Church\, 726 Fuller Avenue\, Big Rapids\, MI\, 49307\, United States
ORGANIZER;CN="Tuba Bach":MAILTO:mallett@tubabach.org
END:VEVENT
END:VCALENDAR