BEGIN:VCALENDAR
VERSION:2.0
PRODID:-//Tuba Bach - ECPv6.15.13//NONSGML v1.0//EN
CALSCALE:GREGORIAN
METHOD:PUBLISH
X-WR-CALNAME:Tuba Bach
X-ORIGINAL-URL:https://tubabach.org
X-WR-CALDESC:Events for Tuba Bach
REFRESH-INTERVAL;VALUE=DURATION:PT1H
X-Robots-Tag:noindex
X-PUBLISHED-TTL:PT1H
BEGIN:VTIMEZONE
TZID:UTC
BEGIN:STANDARD
TZOFFSETFROM:+0000
TZOFFSETTO:+0000
TZNAME:UTC
DTSTART:20220101T000000
END:STANDARD
END:VTIMEZONE
BEGIN:VEVENT
DTSTART;TZID=UTC:20231105T160000
DTEND;TZID=UTC:20231105T173000
DTSTAMP:20260423T215518
CREATED:20231027T183040Z
LAST-MODIFIED:20231027T183040Z
UID:2152-1699200000-1699205400@tubabach.org
SUMMARY:Novak Trio - Tuba Bach Presents MSU
DESCRIPTION:Tuba Bach welcomes Novak Trio – Natasha Kubit\, Yu-Chen Lin\, and Feng Kang – for the first concert of our 2023-24 Tuba Bach presents . . . MSU College of Music season!
URL:https://tubabach.org/event/novak-trio-tuba-bach-presents-msu/
LOCATION:Immanuel Lutheran Church\, 726 Fuller Avenue\, Big Rapids\, MI\, 49307\, United States
ATTACH;FMTTYPE=image/png:https://tubabach.org/wp-content/uploads/2023/10/sparty-tuba-bach.png
END:VEVENT
BEGIN:VEVENT
DTSTART;TZID=UTC:20231015T160000
DTEND;TZID=UTC:20231015T180000
DTSTAMP:20260423T215518
CREATED:20231005T202535Z
LAST-MODIFIED:20231005T202535Z
UID:2145-1697385600-1697392800@tubabach.org
SUMMARY:Testimony Sings and Alvin Waddles
DESCRIPTION:The magnificent voices of Testimony Sings! – Angela Bostic\, Treena James\, Chandra Lewis\, Lori Waddles\, and Lori Wesby – along with music director and pianist Alvin Waddles\, saxophonist Dominic Waddles\, drummer Felicia Hill\, and Ed Mallett present a glorious inspirational finale to the 2023 Tuba Bach Festival!
URL:https://tubabach.org/event/testimony-sings-and-alvin-waddles/
LOCATION:Immanuel Lutheran Church\, 726 Fuller Avenue\, Big Rapids\, MI\, 49307\, United States
ATTACH;FMTTYPE=image/png:https://tubabach.org/wp-content/uploads/2023/10/stained-glass-music.png
END:VEVENT
BEGIN:VEVENT
DTSTART;TZID=UTC:20231014T190000
DTEND;TZID=UTC:20231014T210000
DTSTAMP:20260423T215518
CREATED:20231005T202401Z
LAST-MODIFIED:20231005T202401Z
UID:2142-1697310000-1697317200@tubabach.org
SUMMARY:Testimony Sings\, with Alvin Waddles
DESCRIPTION:The magnificent voices of Testimony Sings! – Angela Bostic\, Treena James\, Chandra Lewis\, Lori Waddles\, and Lori Wesby – along with music director and pianist Alvin Waddles\, saxophonist Dominic Waddles\, drummer Felicia Hill\, and Ed Mallett present a glorious inspirational finale to the 2023 Tuba Bach Festival!
URL:https://tubabach.org/event/testimony-sings-with-alvin-waddles/
LOCATION:Immanuel Lutheran Church\, 726 Fuller Avenue\, Big Rapids\, MI\, 49307\, United States
ATTACH;FMTTYPE=image/png:https://tubabach.org/wp-content/uploads/2023/10/stained-glass-music.png
END:VEVENT
BEGIN:VEVENT
DTSTART;TZID=UTC:20231008T160000
DTEND;TZID=UTC:20231008T180000
DTSTAMP:20260423T215518
CREATED:20231005T201915Z
LAST-MODIFIED:20231005T201915Z
UID:2138-1696780800-1696788000@tubabach.org
SUMMARY:Alirna Korieva and Noah Mallett
DESCRIPTION:Uzbekistani violinist Alirna Korieva and pianist/composer Noah Mallett bring a touch of elegance to the Tuba Bach Festival.  Concert repertoire includes Johannes Brahms’ famous Opus 40 Trio\, Paul Schoenfeld’s Café Music\, traditional Uzbek music\, jazz standards\, and the premiere of a new piece by Noah.
URL:https://tubabach.org/event/alirna-korieva-and-noah-mallett/
LOCATION:Immanuel Lutheran Church\, 726 Fuller Avenue\, Big Rapids\, MI\, 49307\, United States
ATTACH;FMTTYPE=image/png:https://tubabach.org/wp-content/uploads/2023/10/violin.png
ORGANIZER;CN="Tuba Bach":MAILTO:mallett@tubabach.org
END:VEVENT
BEGIN:VEVENT
DTSTART;TZID=UTC:20231007T190000
DTEND;TZID=UTC:20231007T210000
DTSTAMP:20260423T215518
CREATED:20231005T202817Z
LAST-MODIFIED:20231005T202817Z
UID:2147-1696705200-1696712400@tubabach.org
SUMMARY:Alirna Korieva and Noah Mallett
DESCRIPTION:Uzbekistani violinist Alirna Korieva and pianist/composer Noah Mallett bring a touch of elegance to the Tuba Bach Festival.  Concert repertoire includes Johannes Brahms’ famous Opus 40 Trio\, Paul Schoenfeld’s Café Music\, traditional Uzbek music\, jazz standards\, and the premiere of a new piece by Noah.
URL:https://tubabach.org/event/alirna-korieva-and-noah-mallett-2/
LOCATION:Immanuel Lutheran Church\, 726 Fuller Avenue\, Big Rapids\, MI\, 49307\, United States
ATTACH;FMTTYPE=image/png:https://tubabach.org/wp-content/uploads/2023/10/violin.png
END:VEVENT
BEGIN:VEVENT
DTSTART;TZID=UTC:20230930T190000
DTEND;TZID=UTC:20231001T160000
DTSTAMP:20260423T215518
CREATED:20230803T173940Z
LAST-MODIFIED:20230828T205637Z
UID:1544-1696100400-1696176000@tubabach.org
SUMMARY:23 and Me with Tuba Quartet
DESCRIPTION:Following a three-year COVID-19-induced hiatus\, the Tuba Bach Quartet makes a triumphant return to the festival!  Euphonium artist Gail Robertson and tubists Charles Guy and Phil Sinder reunite with Ed for a low-end weekend of music!
URL:https://tubabach.org/event/23-and-me-with-tuba-quartet/
LOCATION:MI
ATTACH;FMTTYPE=image/png:https://tubabach.org/wp-content/uploads/2023/08/tuba-4.png
END:VEVENT
BEGIN:VEVENT
DTSTART;TZID=UTC:20230923T190000
DTEND;TZID=UTC:20230924T160000
DTSTAMP:20260423T215518
CREATED:20230803T173755Z
LAST-MODIFIED:20230828T185848Z
UID:1542-1695495600-1695571200@tubabach.org
SUMMARY:23 and Me with Steelpan & Guitar
DESCRIPTION:World renowned steelpan (steel drum) artist Liam Teague\, from Trinidad and Tobago\, combines forces with guitarist extraordinaire Fareed Haque and Ed for a one-of-a-kind\, once-in-a-lifetime performance weekend.  The trio explores music by composers ranging from J.S. Bach to Niccoló Paganini to Charlie Parker.  And as an added bonus\, the program features guest appearances by Liam’s son Jaden on steelpan and Fareed’s son Elihu on tuba!
URL:https://tubabach.org/event/23-and-me-with-steelpan-guitar/
LOCATION:MI
ATTACH;FMTTYPE=image/png:https://tubabach.org/wp-content/uploads/2023/08/steel-pan.png
END:VEVENT
BEGIN:VEVENT
DTSTART;TZID=UTC:20230916T190000
DTEND;TZID=UTC:20230917T160000
DTSTAMP:20260423T215518
CREATED:20230803T173536Z
LAST-MODIFIED:20230828T201405Z
UID:1540-1694890800-1694966400@tubabach.org
SUMMARY:23 and Me with with Horn & Piano
DESCRIPTION:Horn virtuoso Corbin Wagner and pianist Patrick Johnson join Ed in a program of music written for horn\, tuba\, and piano\, including works by Lon Chaffin\, David Gillingham\, Gary Kulesha\, Catherine Likhuta\, Justin Raines\, and Alec Wilder.
URL:https://tubabach.org/event/23-and-me-with-with-horn-piano/
LOCATION:MI
ATTACH;FMTTYPE=image/png:https://tubabach.org/wp-content/uploads/2023/08/horn-trio.png
END:VEVENT
BEGIN:VEVENT
DTSTART;TZID=UTC:20230910T160000
DTEND;TZID=UTC:20230910T160000
DTSTAMP:20260423T215518
CREATED:20230808T222519Z
LAST-MODIFIED:20230828T201021Z
UID:1961-1694361600-1694361600@tubabach.org
SUMMARY:23 and Me with Jazz Sextet & Piano
DESCRIPTION:The Rodney Whitaker Jazz Sextet  ̶  Rodney Whitaker\, bass; Rockelle Whitaker\, vocals; Jauron Perry\, trumpet; Stephen Grady\, Jr.\, saxophone; Sequoia Snyder\, piano; and Sarah Whitaker\, drums  ̶  play several jazz standards\, alternating with Noah and Ed Mallett performing new compositions inspired by those tunes for tuba or euphonium and piano.  Commissioned composers include Ricardo Lorenz\, Alvin Waddles\, Noah Mallett\, Eileen Snyder\, and Dominic Waddles.  This event is made possible in part by a John Stites Jazz Award.
URL:https://tubabach.org/event/23-and-me-with-jazz-sextet-piano-2/
LOCATION:MI
ATTACH;FMTTYPE=image/png:https://tubabach.org/wp-content/uploads/2023/08/John-Stites-1.png
END:VEVENT
BEGIN:VEVENT
DTSTART;TZID=UTC:20230909T190000
DTEND;TZID=UTC:20230909T190000
DTSTAMP:20260423T215518
CREATED:20230803T173023Z
LAST-MODIFIED:20230828T200918Z
UID:1538-1694286000-1694286000@tubabach.org
SUMMARY:23 and Me with Jazz Sextet & Piano
DESCRIPTION:The Rodney Whitaker Jazz Sextet  ̶  Rodney Whitaker\, bass; Rockelle Whitaker\, vocals; Jauron Perry\, trumpet; Stephen Grady\, Jr.\, saxophone; Sequoia Snyder\, piano; and Sarah Whitaker\, drums  ̶  play several jazz standards\, alternating with Noah and Ed Mallett performing new compositions inspired by those tunes for tuba or euphonium and piano.  Commissioned composers include Ricardo Lorenz\, Alvin Waddles\, Noah Mallett\, Eileen Snyder\, and Dominic Waddles.  This event is made possible in part by a John Stites Jazz Award.
URL:https://tubabach.org/event/23-and-me-with-jazz-sextet-piano/
LOCATION:MI
ATTACH;FMTTYPE=image/png:https://tubabach.org/wp-content/uploads/2023/08/jazz-art.png
END:VEVENT
BEGIN:VEVENT
DTSTART;TZID=UTC:20230108T160000
DTEND;TZID=UTC:20230108T170000
DTSTAMP:20260423T215518
CREATED:20230811T133439Z
LAST-MODIFIED:20230811T133439Z
UID:2110-1673193600-1673197200@tubabach.org
SUMMARY:Tuba Bach presents MSU: Piano Showcase – concert 1 with Prof. Polischuk and students
DESCRIPTION:Pianists from Dr. Derek Polischuk’s piano studio join him for the first concert of the 2023 MSU Piano Showcase series.
URL:https://tubabach.org/event/tuba-bach-presents-msu-piano-showcase-concert-1-with-prof-polischuk-and-students/
LOCATION:MI
END:VEVENT
END:VCALENDAR