BEGIN:VCALENDAR
VERSION:2.0
PRODID:-//Tuba Bach - ECPv6.15.13//NONSGML v1.0//EN
CALSCALE:GREGORIAN
METHOD:PUBLISH
X-ORIGINAL-URL:https://tubabach.org
X-WR-CALDESC:Events for Tuba Bach
REFRESH-INTERVAL;VALUE=DURATION:PT1H
X-Robots-Tag:noindex
X-PUBLISHED-TTL:PT1H
BEGIN:VTIMEZONE
TZID:UTC
BEGIN:STANDARD
TZOFFSETFROM:+0000
TZOFFSETTO:+0000
TZNAME:UTC
DTSTART:20220101T000000
END:STANDARD
END:VTIMEZONE
BEGIN:VEVENT
DTSTART;TZID=UTC:20231105T160000
DTEND;TZID=UTC:20231105T173000
DTSTAMP:20260425T033143
CREATED:20231027T183040Z
LAST-MODIFIED:20231027T183040Z
UID:2152-1699200000-1699205400@tubabach.org
SUMMARY:Novak Trio - Tuba Bach Presents MSU
DESCRIPTION:Tuba Bach welcomes Novak Trio – Natasha Kubit\, Yu-Chen Lin\, and Feng Kang – for the first concert of our 2023-24 Tuba Bach presents . . . MSU College of Music season!
URL:https://tubabach.org/event/novak-trio-tuba-bach-presents-msu/
LOCATION:Immanuel Lutheran Church\, 726 Fuller Avenue\, Big Rapids\, MI\, 49307\, United States
ATTACH;FMTTYPE=image/png:https://tubabach.org/wp-content/uploads/2023/10/sparty-tuba-bach.png
END:VEVENT
END:VCALENDAR