BEGIN:VCALENDAR
VERSION:2.0
PRODID:-//Tuba Bach - ECPv6.15.13//NONSGML v1.0//EN
CALSCALE:GREGORIAN
METHOD:PUBLISH
X-ORIGINAL-URL:https://tubabach.org
X-WR-CALDESC:Events for Tuba Bach
REFRESH-INTERVAL;VALUE=DURATION:PT1H
X-Robots-Tag:noindex
X-PUBLISHED-TTL:PT1H
BEGIN:VTIMEZONE
TZID:UTC
BEGIN:STANDARD
TZOFFSETFROM:+0000
TZOFFSETTO:+0000
TZNAME:UTC
DTSTART:20230101T000000
END:STANDARD
END:VTIMEZONE
BEGIN:VEVENT
DTSTART;TZID=UTC:20240107T160000
DTEND;TZID=UTC:20240107T173000
DTSTAMP:20260425T012008
CREATED:20240104T194219Z
LAST-MODIFIED:20240104T194219Z
UID:2156-1704643200-1704648600@tubabach.org
SUMMARY:Tuba Bach presents . . . 2024 MSU International Piano Exposition - Concert 1
DESCRIPTION:Pianist Zhangziyi Han and vocalist Pengyu Yang open this year’s International Piano Exposition with a program featuring piano music by Johannes Brahms and vocal pieces by Bizet\, Schumann\, Verdi\, and more.
URL:https://tubabach.org/event/tuba-bach-presents-2024-msu-international-piano-exposition-concert-1/
LOCATION:Immanuel Lutheran Church\, 726 Fuller Avenue\, Big Rapids\, MI\, 49307\, United States
ATTACH;FMTTYPE=image/png:https://tubabach.org/wp-content/uploads/2024/01/2024-piano-expo-1.png
ORGANIZER;CN="Tuba Bach":MAILTO:mallett@tubabach.org
END:VEVENT
BEGIN:VEVENT
DTSTART;TZID=UTC:20240114T160000
DTEND;TZID=UTC:20240114T173000
DTSTAMP:20260425T012008
CREATED:20240104T194421Z
LAST-MODIFIED:20240128T002333Z
UID:2159-1705248000-1705253400@tubabach.org
SUMMARY:Tuba Bach presents . . . 2024 MSU International Piano Exposition - Concert 2
DESCRIPTION:Pianist Qianshan Yun presents a program featuring the music of Brahms\, Haydn\, and Liszt. \nTHIS EVENT HAS BEEN RESCHEDULED TO MAR. 17\, 2024
URL:https://tubabach.org/event/tuba-bach-presents-2024-msu-international-piano-exposition-concert-2/
LOCATION:Immanuel Lutheran Church\, 726 Fuller Avenue\, Big Rapids\, MI\, 49307\, United States
ATTACH;FMTTYPE=image/png:https://tubabach.org/wp-content/uploads/2024/01/2024-piano-expo.png
ORGANIZER;CN="Tuba Bach":MAILTO:mallett@tubabach.org
END:VEVENT
BEGIN:VEVENT
DTSTART;TZID=UTC:20240121T160000
DTEND;TZID=UTC:20240121T173000
DTSTAMP:20260425T012008
CREATED:20240104T194554Z
LAST-MODIFIED:20240104T194554Z
UID:2162-1705852800-1705858200@tubabach.org
SUMMARY:Tuba Bach presents . . . 2024 MSU International Piano Exposition - Concert 3
DESCRIPTION:Myungseo Kim performs piano masterpieces by Ludwig von Beethoven and Robert Schumann
URL:https://tubabach.org/event/tuba-bach-presents-2024-msu-international-piano-exposition-concert-3/
LOCATION:Immanuel Lutheran Church\, 726 Fuller Avenue\, Big Rapids\, MI\, 49307\, United States
ATTACH;FMTTYPE=image/png:https://tubabach.org/wp-content/uploads/2024/01/2024-piano-expo.png
ORGANIZER;CN="Tuba Bach":MAILTO:mallett@tubabach.org
END:VEVENT
BEGIN:VEVENT
DTSTART;TZID=UTC:20240128T160000
DTEND;TZID=UTC:20240128T173000
DTSTAMP:20260425T012008
CREATED:20240104T194757Z
LAST-MODIFIED:20240104T194757Z
UID:2164-1706457600-1706463000@tubabach.org
SUMMARY:Tuba Bach presents . . . 2024 MSU International Piano Exposition - Concert 4
DESCRIPTION:Pianist Yeeun Choi concludes the 2024 MSU International Piano Exposition in a program featuring works by Bach\, Chopin\, Granados\, and Haydn.
URL:https://tubabach.org/event/tuba-bach-presents-2024-msu-international-piano-exposition-concert-4/
LOCATION:Immanuel Lutheran Church\, 726 Fuller Avenue\, Big Rapids\, MI\, 49307\, United States
ATTACH;FMTTYPE=image/png:https://tubabach.org/wp-content/uploads/2024/01/2024-piano-expo.png
ORGANIZER;CN="Tuba Bach":MAILTO:mallett@tubabach.org
END:VEVENT
END:VCALENDAR