BEGIN:VCALENDAR
VERSION:2.0
PRODID:-//Tuba Bach - ECPv6.15.13//NONSGML v1.0//EN
CALSCALE:GREGORIAN
METHOD:PUBLISH
X-ORIGINAL-URL:https://tubabach.org
X-WR-CALDESC:Events for Tuba Bach
REFRESH-INTERVAL;VALUE=DURATION:PT1H
X-Robots-Tag:noindex
X-PUBLISHED-TTL:PT1H
BEGIN:VTIMEZONE
TZID:UTC
BEGIN:STANDARD
TZOFFSETFROM:+0000
TZOFFSETTO:+0000
TZNAME:UTC
DTSTART:20230101T000000
END:STANDARD
END:VTIMEZONE
BEGIN:VEVENT
DTSTART;TZID=UTC:20240211T160000
DTEND;TZID=UTC:20240211T173000
DTSTAMP:20260425T000529
CREATED:20240104T195128Z
LAST-MODIFIED:20240207T195257Z
UID:2166-1707667200-1707672600@tubabach.org
SUMMARY:Tuba Bach presents . . . MSU Jazz Octets\, with guest Jazzmeia Horn
DESCRIPTION:An exciting program with outstanding students from Michigan State University’s acclaimed jazz program\, with special guest vocalist Jazzmeia Horn.  Program made possible in part by MSUFCU.
URL:https://tubabach.org/event/tuba-bach-presents-msu-jazz-octets-with-guest-jazzmeia-horn/
LOCATION:Immanuel Lutheran Church\, 726 Fuller Avenue\, Big Rapids\, MI\, 49307\, United States
ATTACH;FMTTYPE=image/jpeg:https://tubabach.org/wp-content/uploads/2024/01/Jazzmeia-Horn.jpg
ORGANIZER;CN="Tuba Bach":MAILTO:mallett@tubabach.org
END:VEVENT
BEGIN:VEVENT
DTSTART;TZID=UTC:20240216T190000
DTEND;TZID=UTC:20240216T210000
DTSTAMP:20260425T000529
CREATED:20240104T200249Z
LAST-MODIFIED:20240104T200249Z
UID:2175-1708110000-1708117200@tubabach.org
SUMMARY:Big Rapids Festival of the Arts - "Romance is Just Around the Corner"
DESCRIPTION:Tuba Bach’s Ed Mallett moves over to the piano bench and microphone\, singing a program of “just-around-the-corner” love songs to celebrate the Valentine’s season.  Ed is joined by violinist Alirna Korieva\, Zach Potter on bass\, and Noah Mallett at the drum set and additional keyboards.
URL:https://tubabach.org/event/big-rapids-festival-of-the-arts-romance-is-just-around-the-corner/
LOCATION:Immanuel Lutheran Church\, 726 Fuller Avenue\, Big Rapids\, MI\, 49307\, United States
ATTACH;FMTTYPE=image/png:https://tubabach.org/wp-content/uploads/2024/01/Romance-cookie.png
END:VEVENT
BEGIN:VEVENT
DTSTART;TZID=UTC:20240223T190000
DTEND;TZID=UTC:20240223T210000
DTSTAMP:20260425T000529
CREATED:20240104T195303Z
LAST-MODIFIED:20240207T195044Z
UID:2169-1708714800-1708722000@tubabach.org
SUMMARY:Tuba Bach presents . . . MSU's Salsa Verde
DESCRIPTION:Spicy Latin Jazz from East Lansing!
URL:https://tubabach.org/event/tuba-bach-presents-msus-salsa-verde/
LOCATION:Immanuel Lutheran Church\, 726 Fuller Avenue\, Big Rapids\, MI\, 49307\, United States
ATTACH;FMTTYPE=image/png:https://tubabach.org/wp-content/uploads/2024/01/Salsa-Verde.png
ORGANIZER;CN="Tuba Bach":MAILTO:mallett@tubabach.org
END:VEVENT
END:VCALENDAR