BEGIN:VCALENDAR
VERSION:2.0
PRODID:-//Tuba Bach - ECPv6.15.13//NONSGML v1.0//EN
CALSCALE:GREGORIAN
METHOD:PUBLISH
X-WR-CALNAME:Tuba Bach
X-ORIGINAL-URL:https://tubabach.org
X-WR-CALDESC:Events for Tuba Bach
REFRESH-INTERVAL;VALUE=DURATION:PT1H
X-Robots-Tag:noindex
X-PUBLISHED-TTL:PT1H
BEGIN:VTIMEZONE
TZID:UTC
BEGIN:STANDARD
TZOFFSETFROM:+0000
TZOFFSETTO:+0000
TZNAME:UTC
DTSTART:20230101T000000
END:STANDARD
END:VTIMEZONE
BEGIN:VEVENT
DTSTART;TZID=UTC:20241005T190000
DTEND;TZID=UTC:20241005T203000
DTSTAMP:20260424T152608
CREATED:20240201T194820Z
LAST-MODIFIED:20240817T194217Z
UID:2277-1728154800-1728160200@tubabach.org
SUMMARY:2024 Festival - Concert #4 - Percussion Quartet
DESCRIPTION:Big Rapids natives Noah Mallett (master’s student at Michigan State University) and Kramer Milan (faculty at Boise State University)\, plus MSU professor Gwendolyn Dease and Hartt School of Music DMA candidate Dan Ingman. With world premieres of music for euphonium/tuba and percussion by Jeremy Makkonen\, Ed Mallett\, Noah Mallett\, and Ayako Pederson-Takeda – and much more!
URL:https://tubabach.org/event/2024-festival-concert-4/
LOCATION:Immanuel Lutheran Church\, 726 Fuller Avenue\, Big Rapids\, MI\, 49307\, United States
ORGANIZER;CN="Tuba Bach":MAILTO:mallett@tubabach.org
END:VEVENT
BEGIN:VEVENT
DTSTART;TZID=UTC:20241006T160000
DTEND;TZID=UTC:20241006T173000
DTSTAMP:20260424T152608
CREATED:20240201T194917Z
LAST-MODIFIED:20240817T194253Z
UID:2279-1728230400-1728235800@tubabach.org
SUMMARY:2024 Festival - Concert #4 - Percussion Quartet
DESCRIPTION:Big Rapids natives Noah Mallett (master’s student at Michigan State University) and Kramer Milan (faculty at Boise State University)\, plus MSU professor Gwendolyn Dease and Hartt School of Music DMA candidate Dan Ingman. With world premieres of music for euphonium/tuba and percussion by Jeremy Makkonen\, Ed Mallett\, Noah Mallett\, and Ayako Pederson-Takeda – and much more!
URL:https://tubabach.org/event/2024-festival-concert-4-2/
LOCATION:Immanuel Lutheran Church\, 726 Fuller Avenue\, Big Rapids\, MI\, 49307\, United States
ORGANIZER;CN="Tuba Bach":MAILTO:mallett@tubabach.org
END:VEVENT
BEGIN:VEVENT
DTSTART;TZID=UTC:20241012T190000
DTEND;TZID=UTC:20241012T203000
DTSTAMP:20260424T152608
CREATED:20240201T195022Z
LAST-MODIFIED:20240817T194638Z
UID:2281-1728759600-1728765000@tubabach.org
SUMMARY:2024 Festival - Concert #5 - Orbis Sonorum
DESCRIPTION:Orbis Sonorum (World of Sound) Quartet\, featuring Uzbek violinist Alirna Korieva\, Georgian cellist Sandro Sidamonidze\, jazz pianist Jordan Anderson representing Cameroonian and Central African traditions\, and percussionist Angel Hernandez representing Afro-Cuban and Latin American traditions\, along with Ed Mallett on euphonium and tuba. Exciting mash-ups and explorations of diverse musical cultures coming together to create something unique.
URL:https://tubabach.org/event/2024-festival-concert-5/
LOCATION:Immanuel Lutheran Church\, 726 Fuller Avenue\, Big Rapids\, MI\, 49307\, United States
ORGANIZER;CN="Tuba Bach":MAILTO:mallett@tubabach.org
END:VEVENT
BEGIN:VEVENT
DTSTART;TZID=UTC:20241013T160000
DTEND;TZID=UTC:20241013T173000
DTSTAMP:20260424T152608
CREATED:20240201T195101Z
LAST-MODIFIED:20240817T194724Z
UID:2283-1728835200-1728840600@tubabach.org
SUMMARY:2024 Festival - Concert #5 - Orbis Sonorum
DESCRIPTION:Orbis Sonorum (World of Sound) Quartet\, featuring Uzbek violinist Alirna Korieva\, Georgian cellist Sandro Sidamonidze\, jazz pianist Jordan Anderson representing Cameroonian and Central African traditions\, and percussionist Angel Hernandez representing Afro-Cuban and Latin American traditions\, along with Ed Mallett on euphonium and tuba. Exciting mash-ups and explorations of diverse musical cultures coming together to create something unique.
URL:https://tubabach.org/event/2024-festival-concert-5-2/
LOCATION:Immanuel Lutheran Church\, 726 Fuller Avenue\, Big Rapids\, MI\, 49307\, United States
ORGANIZER;CN="Tuba Bach":MAILTO:mallett@tubabach.org
END:VEVENT
BEGIN:VEVENT
DTSTART;TZID=UTC:20241019T190000
DTEND;TZID=UTC:20241019T203000
DTSTAMP:20260424T152608
CREATED:20240201T195153Z
LAST-MODIFIED:20240817T195035Z
UID:2285-1729364400-1729369800@tubabach.org
SUMMARY:2024 Festival - Concert #6 - Vintage Vocal Quartet
DESCRIPTION:Four faculty members from the world-renowned Berklee College of Music in Boston. In addition to their vocal talents\, Chris Humphrey\, Taylor O’Donnell\, Paul Pampinella\, and David Thorne Scott are also all accomplished instrumentalists. Ed joins in the fun for a trip down Memory Lane back to the swing era – and a delightful close to the 2024 Tuba Bach Festival!
URL:https://tubabach.org/event/2024-festival-concert-6/
LOCATION:Immanuel Lutheran Church\, 726 Fuller Avenue\, Big Rapids\, MI\, 49307\, United States
ORGANIZER;CN="Tuba Bach":MAILTO:mallett@tubabach.org
END:VEVENT
BEGIN:VEVENT
DTSTART;TZID=UTC:20241020T160000
DTEND;TZID=UTC:20241020T173000
DTSTAMP:20260424T152608
CREATED:20240201T195239Z
LAST-MODIFIED:20240817T195104Z
UID:2287-1729440000-1729445400@tubabach.org
SUMMARY:2024 Festival - Concert #6 - Vintage Vocal Quartet
DESCRIPTION:Four faculty members from the world-renowned Berklee College of Music in Boston. In addition to their vocal talents\, Chris Humphrey\, Taylor O’Donnell\, Paul Pampinella\, and David Thorne Scott are also all accomplished instrumentalists. Ed joins in the fun for a trip down Memory Lane back to the swing era – and a delightful close to the 2024 Tuba Bach Festival!
URL:https://tubabach.org/event/2024-festival-concert-6-2/
LOCATION:Immanuel Lutheran Church\, 726 Fuller Avenue\, Big Rapids\, MI\, 49307\, United States
ORGANIZER;CN="Tuba Bach":MAILTO:mallett@tubabach.org
END:VEVENT
END:VCALENDAR