BEGIN:VCALENDAR
VERSION:2.0
PRODID:-//Tuba Bach - ECPv6.15.13//NONSGML v1.0//EN
CALSCALE:GREGORIAN
METHOD:PUBLISH
X-WR-CALNAME:Tuba Bach
X-ORIGINAL-URL:https://tubabach.org
X-WR-CALDESC:Events for Tuba Bach
REFRESH-INTERVAL;VALUE=DURATION:PT1H
X-Robots-Tag:noindex
X-PUBLISHED-TTL:PT1H
BEGIN:VTIMEZONE
TZID:UTC
BEGIN:STANDARD
TZOFFSETFROM:+0000
TZOFFSETTO:+0000
TZNAME:UTC
DTSTART:20240101T000000
END:STANDARD
END:VTIMEZONE
BEGIN:VEVENT
DTSTART;TZID=UTC:20250913T190000
DTEND;TZID=UTC:20250913T200000
DTSTAMP:20260424T014907
CREATED:20250906T142515Z
LAST-MODIFIED:20250906T143842Z
UID:3538-1757790000-1757793600@tubabach.org
SUMMARY:2025 Festival - Concert #1
DESCRIPTION:“At a Magic Show” – with Mark Tripp\, magician
URL:https://tubabach.org/event/2025-festival-concert-1/
LOCATION:Immanuel Lutheran Church\, 726 Fuller Avenue\, Big Rapids\, MI\, 49307\, United States
ORGANIZER;CN="Tuba Bach":MAILTO:mallett@tubabach.org
END:VEVENT
BEGIN:VEVENT
DTSTART;TZID=UTC:20250914T160000
DTEND;TZID=UTC:20250914T170000
DTSTAMP:20260424T014907
CREATED:20250906T142558Z
LAST-MODIFIED:20250906T143924Z
UID:3540-1757865600-1757869200@tubabach.org
SUMMARY:2025 Festival - Concert #1
DESCRIPTION:“At a Magic Show” – with Mark Tripp\, magician
URL:https://tubabach.org/event/2025-festival-concert-1-2/
LOCATION:Immanuel Lutheran Church\, 726 Fuller Avenue\, Big Rapids\, MI\, 49307\, United States
ORGANIZER;CN="Tuba Bach":MAILTO:mallett@tubabach.org
END:VEVENT
BEGIN:VEVENT
DTSTART;TZID=UTC:20250920T190000
DTEND;TZID=UTC:20250920T200000
DTSTAMP:20260424T014907
CREATED:20250906T142718Z
LAST-MODIFIED:20250906T155756Z
UID:3542-1758394800-1758398400@tubabach.org
SUMMARY:2025 Festival - Concert #2
DESCRIPTION:“In a Venezuelan Teatro” – with Marco Granados\, flute; Hector Molina\, cuatro and guitar; Leonardo Granados\, percussion and vocals; Gonzalo Teppa\, bass
URL:https://tubabach.org/event/2025-festival-concert-2/
LOCATION:Immanuel Lutheran Church\, 726 Fuller Avenue\, Big Rapids\, MI\, 49307\, United States
ORGANIZER;CN="Tuba Bach":MAILTO:mallett@tubabach.org
END:VEVENT
BEGIN:VEVENT
DTSTART;TZID=UTC:20250921T160000
DTEND;TZID=UTC:20250921T170000
DTSTAMP:20260424T014907
CREATED:20250906T142803Z
LAST-MODIFIED:20250906T155819Z
UID:3544-1758470400-1758474000@tubabach.org
SUMMARY:2025 Festival - Concert #2
DESCRIPTION:“In a Venezuelan Teatro” – with Marco Granados\, flute; Hector Molina\, cuatro and guitar; Leonardo Granados\, percussion and vocals; Gonzalo Teppa\, bass
URL:https://tubabach.org/event/2025-festival-concert-2-2/
LOCATION:Immanuel Lutheran Church\, 726 Fuller Avenue\, Big Rapids\, MI\, 49307\, United States
ORGANIZER;CN="Tuba Bach":MAILTO:mallett@tubabach.org
END:VEVENT
BEGIN:VEVENT
DTSTART;TZID=UTC:20250927T190000
DTEND;TZID=UTC:20250927T200000
DTSTAMP:20260424T014907
CREATED:20250906T142916Z
LAST-MODIFIED:20250919T113121Z
UID:3546-1758999600-1759003200@tubabach.org
SUMMARY:2025 Festival - Concert #3
DESCRIPTION:“In a Jazz Club” – with Michael Dease\, trombone and saxophone; Alvin Waddles\, piano; Rodney Whitaker\, bass; Gayelynn McKinney\, drums
URL:https://tubabach.org/event/2025-festival-concert-3/
LOCATION:Immanuel Lutheran Church\, 726 Fuller Avenue\, Big Rapids\, MI\, 49307\, United States
ORGANIZER;CN="Tuba Bach":MAILTO:mallett@tubabach.org
END:VEVENT
BEGIN:VEVENT
DTSTART;TZID=UTC:20250928T160000
DTEND;TZID=UTC:20250928T170000
DTSTAMP:20260424T014907
CREATED:20250906T143009Z
LAST-MODIFIED:20250919T113210Z
UID:3548-1759075200-1759078800@tubabach.org
SUMMARY:2025 Festival - Concert #3
DESCRIPTION:“In a Jazz Club” – with Michael Dease\, trombone and saxophone; Alvin Waddles\, piano; Rodney Whitaker\, bass; Gayelynn McKinney\, drums
URL:https://tubabach.org/event/2025-festival-concert-3-2/
LOCATION:Immanuel Lutheran Church\, 726 Fuller Avenue\, Big Rapids\, MI\, 49307\, United States
ORGANIZER;CN="Tuba Bach":MAILTO:mallett@tubabach.org
END:VEVENT
END:VCALENDAR