BEGIN:VCALENDAR
VERSION:2.0
PRODID:-//Tuba Bach - ECPv6.15.13//NONSGML v1.0//EN
CALSCALE:GREGORIAN
METHOD:PUBLISH
X-ORIGINAL-URL:https://tubabach.org
X-WR-CALDESC:Events for Tuba Bach
REFRESH-INTERVAL;VALUE=DURATION:PT1H
X-Robots-Tag:noindex
X-PUBLISHED-TTL:PT1H
BEGIN:VTIMEZONE
TZID:UTC
BEGIN:STANDARD
TZOFFSETFROM:+0000
TZOFFSETTO:+0000
TZNAME:UTC
DTSTART:20250101T000000
END:STANDARD
END:VTIMEZONE
BEGIN:VEVENT
DTSTART;TZID=UTC:20260104T160000
DTEND;TZID=UTC:20260104T170000
DTSTAMP:20260423T202955
CREATED:20251219T144735Z
LAST-MODIFIED:20251219T144735Z
UID:3855-1767542400-1767546000@tubabach.org
SUMMARY:Tuba Bach presents... 2026 MSU International Piano Exposition - Concert 1
DESCRIPTION:Jingwei Yuan\, piano
URL:https://tubabach.org/event/tuba-bach-presents-2026-msu-international-piano-exposition-concert-1/
LOCATION:Immanuel Lutheran Church\, 726 Fuller Avenue\, Big Rapids\, MI\, 49307\, United States
ORGANIZER;CN="Tuba Bach":MAILTO:mallett@tubabach.org
END:VEVENT
BEGIN:VEVENT
DTSTART;TZID=UTC:20260111T160000
DTEND;TZID=UTC:20260111T170000
DTSTAMP:20260423T202955
CREATED:20251219T144851Z
LAST-MODIFIED:20251219T144851Z
UID:3857-1768147200-1768150800@tubabach.org
SUMMARY:Tuba Bach presents... 2026 MSU International Piano Exposition - Concert 2
DESCRIPTION:Ye-Eun Hyun\, piano
URL:https://tubabach.org/event/tuba-bach-presents-2026-msu-international-piano-exposition-concert-2/
LOCATION:Immanuel Lutheran Church\, 726 Fuller Avenue\, Big Rapids\, MI\, 49307\, United States
ORGANIZER;CN="Tuba Bach":MAILTO:mallett@tubabach.org
END:VEVENT
BEGIN:VEVENT
DTSTART;TZID=UTC:20260118T160000
DTEND;TZID=UTC:20260118T170000
DTSTAMP:20260423T202955
CREATED:20251219T144936Z
LAST-MODIFIED:20251219T144936Z
UID:3859-1768752000-1768755600@tubabach.org
SUMMARY:Tuba Bach presents... 2026 MSU International Piano Exposition - Concert 3
DESCRIPTION:Soojin Kim\, piano and Yu-Chen Lin\, cello
URL:https://tubabach.org/event/tuba-bach-presents-2026-msu-international-piano-exposition-concert-3/
LOCATION:Immanuel Lutheran Church\, 726 Fuller Avenue\, Big Rapids\, MI\, 49307\, United States
ORGANIZER;CN="Tuba Bach":MAILTO:mallett@tubabach.org
END:VEVENT
BEGIN:VEVENT
DTSTART;TZID=UTC:20260125T160000
DTEND;TZID=UTC:20260125T170000
DTSTAMP:20260423T202955
CREATED:20251219T145021Z
LAST-MODIFIED:20251219T145021Z
UID:3861-1769356800-1769360400@tubabach.org
SUMMARY:Tuba Bach presents... 2026 MSU International Piano Exposition - Concert 4
DESCRIPTION:Sunah Jeong\, piano
URL:https://tubabach.org/event/tuba-bach-presents-2026-msu-international-piano-exposition-concert-4/
LOCATION:Immanuel Lutheran Church\, 726 Fuller Avenue\, Big Rapids\, MI\, 49307\, United States
ORGANIZER;CN="Tuba Bach":MAILTO:mallett@tubabach.org
END:VEVENT
END:VCALENDAR