BEGIN:VCALENDAR
VERSION:2.0
PRODID:-//Tuba Bach - ECPv6.15.13//NONSGML v1.0//EN
CALSCALE:GREGORIAN
METHOD:PUBLISH
X-ORIGINAL-URL:https://tubabach.org
X-WR-CALDESC:Events for Tuba Bach
REFRESH-INTERVAL;VALUE=DURATION:PT1H
X-Robots-Tag:noindex
X-PUBLISHED-TTL:PT1H
BEGIN:VTIMEZONE
TZID:UTC
BEGIN:STANDARD
TZOFFSETFROM:+0000
TZOFFSETTO:+0000
TZNAME:UTC
DTSTART:20250101T000000
END:STANDARD
END:VTIMEZONE
BEGIN:VEVENT
DTSTART;TZID=UTC:20260322T160000
DTEND;TZID=UTC:20260322T170000
DTSTAMP:20260423T175816
CREATED:20260113T221502Z
LAST-MODIFIED:20260119T204936Z
UID:3908-1774195200-1774198800@tubabach.org
SUMMARY:Tuba Bach presents... Dmitri Berlinsky
DESCRIPTION:Dmitri Berlinsky\, violin and Noah Mallett\, harpsichord. Works by Johann Sebastian Bach and Alfred Schnittke
URL:https://tubabach.org/event/tuba-bach-presents-dmitri-berlinsky-and-international-chamber-soloists/
LOCATION:Immanuel Lutheran Church\, 726 Fuller Avenue\, Big Rapids\, MI\, 49307\, United States
ORGANIZER;CN="Tuba Bach":MAILTO:mallett@tubabach.org
END:VEVENT
BEGIN:VEVENT
DTSTART;TZID=UTC:20260329T160000
DTEND;TZID=UTC:20260329T170000
DTSTAMP:20260423T175816
CREATED:20260113T221827Z
LAST-MODIFIED:20260113T221827Z
UID:3911-1774800000-1774803600@tubabach.org
SUMMARY:Tuba Bach presents... MSU Trumpet & Bassoon
DESCRIPTION:James Reed Ricotta\, trumpet and Katherine Dahn\, bassoon
URL:https://tubabach.org/event/tuba-bach-presents-msu-trumpet-bassoon/
LOCATION:Immanuel Lutheran Church\, 726 Fuller Avenue\, Big Rapids\, MI\, 49307\, United States
ORGANIZER;CN="Tuba Bach":MAILTO:mallett@tubabach.org
END:VEVENT
END:VCALENDAR